BEGIN:VCALENDAR
VERSION:2.0
PRODID:-//Excel - ECPv4.6.16//NONSGML v1.0//EN
CALSCALE:GREGORIAN
METHOD:PUBLISH
X-WR-CALNAME:Excel
X-ORIGINAL-URL:https://excelkids.com
X-WR-CALDESC:Events for Excel
BEGIN:VEVENT
DTSTART;VALUE=DATE:20210603
DTEND;VALUE=DATE:20210604
DTSTAMP:20260423T101152
CREATED:20210219T134943Z
LAST-MODIFIED:20210219T134943Z
UID:9782-1622678400-1622764799@excelkids.com
SUMMARY:World Bicycle Day
DESCRIPTION:
URL:https://excelkids.com/event/world-bicycle-day/
CATEGORIES:Calendar Only
END:VEVENT
END:VCALENDAR