BEGIN:VCALENDAR
VERSION:2.0
PRODID:-//Excel - ECPv4.6.16//NONSGML v1.0//EN
CALSCALE:GREGORIAN
METHOD:PUBLISH
X-WR-CALNAME:Excel
X-ORIGINAL-URL:https://excelkids.com
X-WR-CALDESC:Events for Excel
BEGIN:VEVENT
DTSTART;VALUE=DATE:20200402
DTEND;VALUE=DATE:20200403
DTSTAMP:20260425T143428
CREATED:20191122T190647Z
LAST-MODIFIED:20191122T190647Z
UID:3396-1585785600-1585871999@excelkids.com
SUMMARY:World Autism Awareness Day
DESCRIPTION:
URL:https://excelkids.com/event/world-autism-awareness-day/
CATEGORIES:Calendar Only
END:VEVENT
END:VCALENDAR