BEGIN:VCALENDAR
VERSION:2.0
PRODID:-//Excel - ECPv4.6.16//NONSGML v1.0//EN
CALSCALE:GREGORIAN
METHOD:PUBLISH
X-WR-CALNAME:Excel
X-ORIGINAL-URL:https://excelkids.com
X-WR-CALDESC:Events for Excel
BEGIN:VEVENT
DTSTART;VALUE=DATE:20200413
DTEND;VALUE=DATE:20200418
DTSTAMP:20260425T161135
CREATED:20191122T190848Z
LAST-MODIFIED:20191122T190848Z
UID:3398-1586736000-1587167999@excelkids.com
SUMMARY:Week of the Young Child
DESCRIPTION:
URL:https://excelkids.com/event/week-young-child/
CATEGORIES:Calendar Only
END:VEVENT
END:VCALENDAR