BEGIN:VCALENDAR
VERSION:2.0
PRODID:-//Excel - ECPv4.6.16//NONSGML v1.0//EN
CALSCALE:GREGORIAN
METHOD:PUBLISH
X-WR-CALNAME:Excel
X-ORIGINAL-URL:https://excelkids.com
X-WR-CALDESC:Events for Excel
BEGIN:VEVENT
DTSTART;VALUE=DATE:20241111
DTEND;VALUE=DATE:20241112
DTSTAMP:20260423T062832
CREATED:20210219T135633Z
LAST-MODIFIED:20210219T135633Z
UID:23750-1731283200-1731369599@excelkids.com
SUMMARY:Veterans Day
DESCRIPTION:
URL:https://excelkids.com/event/veterans-day/2024-11-11/
CATEGORIES:Calendar Only
END:VEVENT
END:VCALENDAR