BEGIN:VCALENDAR
VERSION:2.0
PRODID:-//Excel - ECPv4.6.16//NONSGML v1.0//EN
CALSCALE:GREGORIAN
METHOD:PUBLISH
X-WR-CALNAME:Excel
X-ORIGINAL-URL:https://excelkids.com
X-WR-CALDESC:Events for Excel
BEGIN:VEVENT
DTSTART;VALUE=DATE:20200214
DTEND;VALUE=DATE:20200215
DTSTAMP:20260423T180227
CREATED:20191122T185904Z
LAST-MODIFIED:20210303T121712Z
UID:3383-1581638400-1581724799@excelkids.com
SUMMARY:Valentine's Day
DESCRIPTION:
URL:https://excelkids.com/event/valentines-day/2020-02-14/
CATEGORIES:Calendar Only
END:VEVENT
END:VCALENDAR