BEGIN:VCALENDAR
VERSION:2.0
PRODID:-//Excel - ECPv4.6.16//NONSGML v1.0//EN
CALSCALE:GREGORIAN
METHOD:PUBLISH
X-WR-CALNAME:Excel
X-ORIGINAL-URL:https://excelkids.com
X-WR-CALDESC:Events for Excel
BEGIN:VEVENT
DTSTART;VALUE=DATE:20240710
DTEND;VALUE=DATE:20240711
DTSTAMP:20260423T080332
CREATED:20240125T000558Z
LAST-MODIFIED:20240125T000558Z
UID:33016-1720569600-1720655999@excelkids.com
SUMMARY:Teddy Bear's Picnic Day
DESCRIPTION:
URL:https://excelkids.com/event/teddy-bears-picnic-day-3/
END:VEVENT
END:VCALENDAR