BEGIN:VCALENDAR
VERSION:2.0
PRODID:-//Excel - ECPv4.6.16//NONSGML v1.0//EN
CALSCALE:GREGORIAN
METHOD:PUBLISH
X-WR-CALNAME:Excel
X-ORIGINAL-URL:https://excelkids.com
X-WR-CALDESC:Events for Excel
BEGIN:VEVENT
DTSTART;VALUE=DATE:20200423
DTEND;VALUE=DATE:20200424
DTSTAMP:20260425T214458
CREATED:20191122T191051Z
LAST-MODIFIED:20191122T191051Z
UID:3402-1587600000-1587686399@excelkids.com
SUMMARY:Take Your Daughter/Son to Work Day
DESCRIPTION:
URL:https://excelkids.com/event/take-daughter-son-work-day/
CATEGORIES:Calendar Only,Prospective Families, Events, Home
END:VEVENT
END:VCALENDAR