BEGIN:VCALENDAR
VERSION:2.0
PRODID:-//Excel - ECPv4.6.16//NONSGML v1.0//EN
CALSCALE:GREGORIAN
METHOD:PUBLISH
X-WR-CALNAME:Excel
X-ORIGINAL-URL:https://excelkids.com
X-WR-CALDESC:Events for Excel
BEGIN:VEVENT
DTSTART;TZID=America/New_York:20220410T080000
DTEND;TZID=America/New_York:20220410T170000
DTSTAMP:20260425T152556
CREATED:20211221T184552Z
LAST-MODIFIED:20211221T184552Z
UID:15486-1649577600-1649610000@excelkids.com
SUMMARY:Siblings Day
DESCRIPTION:
URL:https://excelkids.com/event/siblings-day/
END:VEVENT
END:VCALENDAR