BEGIN:VCALENDAR
VERSION:2.0
PRODID:-//Excel - ECPv4.6.16//NONSGML v1.0//EN
CALSCALE:GREGORIAN
METHOD:PUBLISH
X-WR-CALNAME:Excel
X-ORIGINAL-URL:https://excelkids.com
X-WR-CALDESC:Events for Excel
BEGIN:VEVENT
DTSTART;VALUE=DATE:20231201
DTEND;VALUE=DATE:20231202
DTSTAMP:20260423T150106
CREATED:20230526T180417Z
LAST-MODIFIED:20230526T180417Z
UID:31444-1701388800-1701475199@excelkids.com
SUMMARY:Rosa Parks Day
DESCRIPTION:
URL:https://excelkids.com/event/rosa-parks-day-2/
END:VEVENT
END:VCALENDAR