BEGIN:VCALENDAR
VERSION:2.0
PRODID:-//Excel - ECPv4.6.16//NONSGML v1.0//EN
CALSCALE:GREGORIAN
METHOD:PUBLISH
X-WR-CALNAME:Excel
X-ORIGINAL-URL:https://excelkids.com
X-WR-CALDESC:Events for Excel
BEGIN:VEVENT
DTSTART;VALUE=DATE:20200217
DTEND;VALUE=DATE:20200222
DTSTAMP:20260423T182821
CREATED:20191122T185957Z
LAST-MODIFIED:20191122T185957Z
UID:3386-1581897600-1582329599@excelkids.com
SUMMARY:Random Acts of Kindness Week
DESCRIPTION:
URL:https://excelkids.com/event/random-acts-kindness-week/
CATEGORIES:Calendar Only
END:VEVENT
END:VCALENDAR