BEGIN:VCALENDAR
VERSION:2.0
PRODID:-//Excel - ECPv4.6.16//NONSGML v1.0//EN
CALSCALE:GREGORIAN
METHOD:PUBLISH
X-WR-CALNAME:Excel
X-ORIGINAL-URL:https://excelkids.com
X-WR-CALDESC:Events for Excel
BEGIN:VEVENT
DTSTART;VALUE=DATE:20240219
DTEND;VALUE=DATE:20240220
DTSTAMP:20260423T131712
CREATED:20240125T000258Z
LAST-MODIFIED:20240125T000258Z
UID:32992-1708300800-1708387199@excelkids.com
SUMMARY:Presidents' Day
DESCRIPTION:
URL:https://excelkids.com/event/presidents-day-4/
END:VEVENT
END:VCALENDAR