BEGIN:VCALENDAR
VERSION:2.0
PRODID:-//Excel - ECPv4.6.16//NONSGML v1.0//EN
CALSCALE:GREGORIAN
METHOD:PUBLISH
X-WR-CALNAME:Excel
X-ORIGINAL-URL:https://excelkids.com
X-WR-CALDESC:Events for Excel
BEGIN:VEVENT
DTSTART;TZID=America/New_York:20220221T080000
DTEND;TZID=America/New_York:20220221T170000
DTSTAMP:20260425T115954
CREATED:20211221T183637Z
LAST-MODIFIED:20211221T183713Z
UID:15474-1645430400-1645462800@excelkids.com
SUMMARY:President's Day
DESCRIPTION:
URL:https://excelkids.com/event/presidents-day-3/
END:VEVENT
END:VCALENDAR