BEGIN:VCALENDAR
VERSION:2.0
PRODID:-//Excel - ECPv4.6.16//NONSGML v1.0//EN
CALSCALE:GREGORIAN
METHOD:PUBLISH
X-WR-CALNAME:Excel
X-ORIGINAL-URL:https://excelkids.com
X-WR-CALDESC:Events for Excel
BEGIN:VEVENT
DTSTART;VALUE=DATE:20210215
DTEND;VALUE=DATE:20210216
DTSTAMP:20260423T182006
CREATED:20210105T115320Z
LAST-MODIFIED:20210105T115320Z
UID:8786-1613347200-1613433599@excelkids.com
SUMMARY:Presidents' Day
DESCRIPTION:
URL:https://excelkids.com/event/presidents-day-2/
CATEGORIES:Calendar Only
END:VEVENT
END:VCALENDAR