BEGIN:VCALENDAR
VERSION:2.0
PRODID:-//Excel - ECPv4.6.16//NONSGML v1.0//EN
CALSCALE:GREGORIAN
METHOD:PUBLISH
X-WR-CALNAME:Excel
X-ORIGINAL-URL:https://excelkids.com
X-WR-CALDESC:Events for Excel
BEGIN:VEVENT
DTSTART;VALUE=DATE:20211231
DTEND;VALUE=DATE:20220101
DTSTAMP:20260423T172320
CREATED:20210303T121223Z
LAST-MODIFIED:20210303T121223Z
UID:10157-1640908800-1640995199@excelkids.com
SUMMARY:New Year’s Eve
DESCRIPTION:
URL:https://excelkids.com/event/new-years-eve-2/
CATEGORIES:Calendar Only
END:VEVENT
END:VCALENDAR