BEGIN:VCALENDAR
VERSION:2.0
PRODID:-//Excel - ECPv4.6.16//NONSGML v1.0//EN
CALSCALE:GREGORIAN
METHOD:PUBLISH
X-WR-CALNAME:Excel
X-ORIGINAL-URL:https://excelkids.com
X-WR-CALDESC:Events for Excel
BEGIN:VEVENT
DTSTART;VALUE=DATE:20280101
DTEND;VALUE=DATE:20280102
DTSTAMP:20260423T050408
CREATED:20191122T193556Z
LAST-MODIFIED:20191122T193556Z
UID:35810-1830297600-1830383999@excelkids.com
SUMMARY:New Year's Day - Centers Closed
DESCRIPTION:
URL:https://excelkids.com/event/new-years-day-centers-closed/2028-01-01/
CATEGORIES:Calendar Only
END:VEVENT
END:VCALENDAR