BEGIN:VCALENDAR
VERSION:2.0
PRODID:-//Excel - ECPv4.6.16//NONSGML v1.0//EN
CALSCALE:GREGORIAN
METHOD:PUBLISH
X-WR-CALNAME:Excel
X-ORIGINAL-URL:https://excelkids.com
X-WR-CALDESC:Events for Excel
BEGIN:VEVENT
DTSTART;VALUE=DATE:20200504
DTEND;VALUE=DATE:20200509
DTSTAMP:20260426T011725
CREATED:20191122T191356Z
LAST-MODIFIED:20191122T191356Z
UID:3408-1588550400-1588982399@excelkids.com
SUMMARY:National Teacher Appreciation Week
DESCRIPTION:
URL:https://excelkids.com/event/national-teacher-appreciation-week/
CATEGORIES:Calendar Only,Prospective Families, Events, Home
END:VEVENT
END:VCALENDAR