BEGIN:VCALENDAR
VERSION:2.0
PRODID:-//Excel - ECPv4.6.16//NONSGML v1.0//EN
CALSCALE:GREGORIAN
METHOD:PUBLISH
X-WR-CALNAME:Excel
X-ORIGINAL-URL:https://excelkids.com
X-WR-CALDESC:Events for Excel
BEGIN:VEVENT
DTSTART;VALUE=DATE:20250314
DTEND;VALUE=DATE:20250315
DTSTAMP:20260423T111032
CREATED:20210219T134506Z
LAST-MODIFIED:20210219T134506Z
UID:28625-1741910400-1741996799@excelkids.com
SUMMARY:National Pi Day
DESCRIPTION:
URL:https://excelkids.com/event/national-pi-day/2025-03-14/
CATEGORIES:Calendar Only
END:VEVENT
END:VCALENDAR