BEGIN:VCALENDAR
VERSION:2.0
PRODID:-//Excel - ECPv4.6.16//NONSGML v1.0//EN
CALSCALE:GREGORIAN
METHOD:PUBLISH
X-WR-CALNAME:Excel
X-ORIGINAL-URL:https://excelkids.com
X-WR-CALDESC:Events for Excel
BEGIN:VEVENT
DTSTART;VALUE=DATE:20210827
DTEND;VALUE=DATE:20210828
DTSTAMP:20260423T170523
CREATED:20210219T135243Z
LAST-MODIFIED:20210219T135243Z
UID:9824-1630022400-1630108799@excelkids.com
SUMMARY:National Just Because Day
DESCRIPTION:
URL:https://excelkids.com/event/national-just-day/
CATEGORIES:Calendar Only
END:VEVENT
END:VCALENDAR