BEGIN:VCALENDAR
VERSION:2.0
PRODID:-//Excel - ECPv4.6.16//NONSGML v1.0//EN
CALSCALE:GREGORIAN
METHOD:PUBLISH
X-WR-CALNAME:Excel
X-ORIGINAL-URL:https://excelkids.com
X-WR-CALDESC:Events for Excel
BEGIN:VEVENT
DTSTART;VALUE=DATE:20211201
DTEND;VALUE=DATE:20211208
DTSTAMP:20260423T115600
CREATED:20210219T135745Z
LAST-MODIFIED:20210303T121035Z
UID:9884-1638316800-1638921599@excelkids.com
SUMMARY:National Handwashing Awareness Week
DESCRIPTION:https://nationaltoday.com/national-handwashing-awareness-week \n
URL:https://excelkids.com/event/national-handwashing-awareness-week/
CATEGORIES:Calendar Only
END:VEVENT
END:VCALENDAR