BEGIN:VCALENDAR
VERSION:2.0
PRODID:-//Excel - ECPv4.6.16//NONSGML v1.0//EN
CALSCALE:GREGORIAN
METHOD:PUBLISH
X-WR-CALNAME:Excel
X-ORIGINAL-URL:https://excelkids.com
X-WR-CALDESC:Events for Excel
BEGIN:VEVENT
DTSTART;VALUE=DATE:20191123
DTEND;VALUE=DATE:20191124
DTSTAMP:20260425T170907
CREATED:20191122T184001Z
LAST-MODIFIED:20191122T184001Z
UID:3364-1574467200-1574553599@excelkids.com
SUMMARY:National Adoption Day
DESCRIPTION:
URL:https://excelkids.com/event/national-adoption-day/
CATEGORIES:Calendar Only
END:VEVENT
END:VCALENDAR