BEGIN:VCALENDAR
VERSION:2.0
PRODID:-//Excel - ECPv4.6.16//NONSGML v1.0//EN
CALSCALE:GREGORIAN
METHOD:PUBLISH
X-WR-CALNAME:Excel
X-ORIGINAL-URL:https://excelkids.com
X-WR-CALDESC:Events for Excel
BEGIN:VEVENT
DTSTART;VALUE=DATE:20201121
DTEND;VALUE=DATE:20201122
DTSTAMP:20260425T171924
CREATED:20191122T193101Z
LAST-MODIFIED:20191122T193101Z
UID:3442-1605916800-1606003199@excelkids.com
SUMMARY:National Adoption Day
DESCRIPTION:
URL:https://excelkids.com/event/national-adoption-day-2/
CATEGORIES:Calendar Only
END:VEVENT
END:VCALENDAR