BEGIN:VCALENDAR
VERSION:2.0
PRODID:-//Excel - ECPv4.6.16//NONSGML v1.0//EN
CALSCALE:GREGORIAN
METHOD:PUBLISH
X-WR-CALNAME:Excel
X-ORIGINAL-URL:https://excelkids.com
X-WR-CALDESC:Events for Excel
BEGIN:VEVENT
DTSTART;VALUE=DATE:20240527
DTEND;VALUE=DATE:20240528
DTSTAMP:20260423T114624
CREATED:20240125T000354Z
LAST-MODIFIED:20240125T000354Z
UID:33004-1716768000-1716854399@excelkids.com
SUMMARY:Memorial Day
DESCRIPTION:
URL:https://excelkids.com/event/memorial-day-4/
END:VEVENT
END:VCALENDAR