BEGIN:VCALENDAR
VERSION:2.0
PRODID:-//Excel - ECPv4.6.16//NONSGML v1.0//EN
CALSCALE:GREGORIAN
METHOD:PUBLISH
X-WR-CALNAME:Excel
X-ORIGINAL-URL:https://excelkids.com
X-WR-CALDESC:Events for Excel
BEGIN:VEVENT
DTSTART;VALUE=DATE:20200120
DTEND;VALUE=DATE:20200121
DTSTAMP:20260423T182515
CREATED:20191122T185739Z
LAST-MODIFIED:20191203T142027Z
UID:3381-1579478400-1579564799@excelkids.com
SUMMARY:Martin Luther King Jr. Day
DESCRIPTION:
URL:https://excelkids.com/event/martin-luther-king-jr-day-centers-closed/
CATEGORIES:Calendar Only,Prospective Families, Events, Home
END:VEVENT
END:VCALENDAR