BEGIN:VCALENDAR
VERSION:2.0
PRODID:-//Excel - ECPv4.6.16//NONSGML v1.0//EN
CALSCALE:GREGORIAN
METHOD:PUBLISH
X-WR-CALNAME:Excel
X-ORIGINAL-URL:https://excelkids.com
X-WR-CALDESC:Events for Excel
BEGIN:VEVENT
DTSTART;VALUE=DATE:20210906
DTEND;VALUE=DATE:20210907
DTSTAMP:20260423T115133
CREATED:20210219T135339Z
LAST-MODIFIED:20210219T135339Z
UID:9836-1630886400-1630972799@excelkids.com
SUMMARY:Labor Day
DESCRIPTION:
URL:https://excelkids.com/event/labor-day/
CATEGORIES:Calendar Only
END:VEVENT
END:VCALENDAR