BEGIN:VCALENDAR
VERSION:2.0
PRODID:-//Excel - ECPv4.6.16//NONSGML v1.0//EN
CALSCALE:GREGORIAN
METHOD:PUBLISH
X-WR-CALNAME:Excel
X-ORIGINAL-URL:https://excelkids.com
X-WR-CALDESC:Events for Excel
BEGIN:VEVENT
DTSTART;VALUE=DATE:20240902
DTEND;VALUE=DATE:20240903
DTSTAMP:20260423T062557
CREATED:20240125T000645Z
LAST-MODIFIED:20240125T000645Z
UID:33022-1725235200-1725321599@excelkids.com
SUMMARY:Labor Day
DESCRIPTION:
URL:https://excelkids.com/event/labor-day-4/
END:VEVENT
END:VCALENDAR