BEGIN:VCALENDAR
VERSION:2.0
PRODID:-//Excel - ECPv4.6.16//NONSGML v1.0//EN
CALSCALE:GREGORIAN
METHOD:PUBLISH
X-WR-CALNAME:Excel
X-ORIGINAL-URL:https://excelkids.com
X-WR-CALDESC:Events for Excel
BEGIN:VEVENT
DTSTART;TZID=America/New_York:20220422T080000
DTEND;TZID=America/New_York:20220422T170000
DTSTAMP:20260425T184811
CREATED:20211221T184756Z
LAST-MODIFIED:20211221T184756Z
UID:15498-1650614400-1650646800@excelkids.com
SUMMARY:Jellybean Day
DESCRIPTION:
URL:https://excelkids.com/event/jellybean-day/
END:VEVENT
END:VCALENDAR