BEGIN:VCALENDAR
VERSION:2.0
PRODID:-//Excel - ECPv4.6.16//NONSGML v1.0//EN
CALSCALE:GREGORIAN
METHOD:PUBLISH
X-WR-CALNAME:Excel
X-ORIGINAL-URL:https://excelkids.com
X-WR-CALDESC:Events for Excel
BEGIN:VEVENT
DTSTART;VALUE=DATE:20201211
DTEND;VALUE=DATE:20201212
DTSTAMP:20260425T133442
CREATED:20191122T193241Z
LAST-MODIFIED:20191122T193241Z
UID:3446-1607644800-1607731199@excelkids.com
SUMMARY:Hanukkah (First Day)
DESCRIPTION:
URL:https://excelkids.com/event/hanukkah-first-day/
CATEGORIES:Calendar Only
END:VEVENT
END:VCALENDAR