BEGIN:VCALENDAR
VERSION:2.0
PRODID:-//Excel - ECPv4.6.16//NONSGML v1.0//EN
CALSCALE:GREGORIAN
METHOD:PUBLISH
X-WR-CALNAME:Excel
X-ORIGINAL-URL:https://excelkids.com
X-WR-CALDESC:Events for Excel
BEGIN:VEVENT
DTSTART;VALUE=DATE:20211128
DTEND;VALUE=DATE:20211129
DTSTAMP:20260423T100814
CREATED:20210219T135719Z
LAST-MODIFIED:20210219T135719Z
UID:9878-1638057600-1638143999@excelkids.com
SUMMARY:Hanukkah Begins
DESCRIPTION:
URL:https://excelkids.com/event/hanukkah-begins/
CATEGORIES:Calendar Only
END:VEVENT
END:VCALENDAR