BEGIN:VCALENDAR
VERSION:2.0
PRODID:-//Excel - ECPv4.6.16//NONSGML v1.0//EN
CALSCALE:GREGORIAN
METHOD:PUBLISH
X-WR-CALNAME:Excel
X-ORIGINAL-URL:https://excelkids.com
X-WR-CALDESC:Events for Excel
BEGIN:VEVENT
DTSTART;VALUE=DATE:20251031
DTEND;VALUE=DATE:20251101
DTSTAMP:20260423T062526
CREATED:20210219T135610Z
LAST-MODIFIED:20210219T135610Z
UID:32602-1761868800-1761955199@excelkids.com
SUMMARY:Halloween
DESCRIPTION:
URL:https://excelkids.com/event/halloween-2/2025-10-31/
CATEGORIES:Calendar Only
END:VEVENT
END:VCALENDAR