BEGIN:VCALENDAR
VERSION:2.0
PRODID:-//Excel - ECPv4.6.16//NONSGML v1.0//EN
CALSCALE:GREGORIAN
METHOD:PUBLISH
X-WR-CALNAME:Excel
X-ORIGINAL-URL:https://excelkids.com
X-WR-CALDESC:Events for Excel
BEGIN:VEVENT
DTSTART;VALUE=DATE:20230928
DTEND;VALUE=DATE:20230929
DTSTAMP:20260425T120610
CREATED:20230526T180152Z
LAST-MODIFIED:20230526T180152Z
UID:31414-1695859200-1695945599@excelkids.com
SUMMARY:Good Neighbor Day
DESCRIPTION:
URL:https://excelkids.com/event/good-neighbor-day-2/
END:VEVENT
END:VCALENDAR