BEGIN:VCALENDAR
VERSION:2.0
PRODID:-//Excel - ECPv4.6.16//NONSGML v1.0//EN
CALSCALE:GREGORIAN
METHOD:PUBLISH
X-WR-CALNAME:Excel
X-ORIGINAL-URL:https://excelkids.com
X-WR-CALDESC:Events for Excel
BEGIN:VEVENT
DTSTART;VALUE=DATE:20210601
DTEND;VALUE=DATE:20210602
DTSTAMP:20260423T115112
CREATED:20210219T134920Z
LAST-MODIFIED:20210219T134920Z
UID:9776-1622505600-1622591999@excelkids.com
SUMMARY:Global Day of Parents
DESCRIPTION:
URL:https://excelkids.com/event/global-day-parents/
CATEGORIES:Calendar Only
END:VEVENT
END:VCALENDAR