BEGIN:VCALENDAR
VERSION:2.0
PRODID:-//Excel - ECPv4.6.16//NONSGML v1.0//EN
CALSCALE:GREGORIAN
METHOD:PUBLISH
X-WR-CALNAME:Excel
X-ORIGINAL-URL:https://excelkids.com
X-WR-CALDESC:Events for Excel
BEGIN:VEVENT
DTSTART;VALUE=DATE:20241225
DTEND;VALUE=DATE:20241226
DTSTAMP:20260423T111454
CREATED:20240125T000816Z
LAST-MODIFIED:20240125T000816Z
UID:33040-1735084800-1735171199@excelkids.com
SUMMARY:First Day of Hanukkah
DESCRIPTION:
URL:https://excelkids.com/event/first-day-hanukkah-2/
END:VEVENT
END:VCALENDAR