BEGIN:VCALENDAR
VERSION:2.0
PRODID:-//Excel - ECPv4.6.16//NONSGML v1.0//EN
CALSCALE:GREGORIAN
METHOD:PUBLISH
X-WR-CALNAME:Excel
X-ORIGINAL-URL:https://excelkids.com
X-WR-CALDESC:Events for Excel
BEGIN:VEVENT
DTSTART;VALUE=DATE:20240616
DTEND;VALUE=DATE:20240617
DTSTAMP:20260423T082838
CREATED:20240125T000451Z
LAST-MODIFIED:20240125T000451Z
UID:33010-1718496000-1718582399@excelkids.com
SUMMARY:Father's Day
DESCRIPTION:
URL:https://excelkids.com/event/fathers-day-5/
END:VEVENT
END:VCALENDAR