BEGIN:VCALENDAR
VERSION:2.0
PRODID:-//Excel - ECPv4.6.16//NONSGML v1.0//EN
CALSCALE:GREGORIAN
METHOD:PUBLISH
X-WR-CALNAME:Excel
X-ORIGINAL-URL:https://excelkids.com
X-WR-CALDESC:Events for Excel
BEGIN:VEVENT
DTSTART;VALUE=DATE:20230618
DTEND;VALUE=DATE:20230619
DTSTAMP:20260426T021229
CREATED:20230526T175821Z
LAST-MODIFIED:20230526T175821Z
UID:31360-1687046400-1687132799@excelkids.com
SUMMARY:Father’s Day
DESCRIPTION:
URL:https://excelkids.com/event/fathers-day-4/
END:VEVENT
END:VCALENDAR