BEGIN:VCALENDAR
VERSION:2.0
PRODID:-//Excel - ECPv4.6.16//NONSGML v1.0//EN
CALSCALE:GREGORIAN
METHOD:PUBLISH
X-WR-CALNAME:Excel
X-ORIGINAL-URL:https://excelkids.com
X-WR-CALDESC:Events for Excel
BEGIN:VEVENT
DTSTART;VALUE=DATE:20210404
DTEND;VALUE=DATE:20210405
DTSTAMP:20260423T131330
CREATED:20210219T134639Z
LAST-MODIFIED:20210303T120055Z
UID:9746-1617494400-1617580799@excelkids.com
SUMMARY:Easter
DESCRIPTION:
URL:https://excelkids.com/event/easter/
CATEGORIES:Calendar Only
END:VEVENT
END:VCALENDAR