BEGIN:VCALENDAR
VERSION:2.0
PRODID:-//Excel - ECPv4.6.16//NONSGML v1.0//EN
CALSCALE:GREGORIAN
METHOD:PUBLISH
X-WR-CALNAME:Excel
X-ORIGINAL-URL:https://excelkids.com
X-WR-CALDESC:Events for Excel
BEGIN:VEVENT
DTSTART;VALUE=DATE:20200917
DTEND;VALUE=DATE:20200918
DTSTAMP:20260426T021751
CREATED:20191122T192641Z
LAST-MODIFIED:20191122T192641Z
UID:3432-1600300800-1600387199@excelkids.com
SUMMARY:Constitution Day
DESCRIPTION:
URL:https://excelkids.com/event/constitution-day/
CATEGORIES:Calendar Only
END:VEVENT
END:VCALENDAR