BEGIN:VCALENDAR
VERSION:2.0
PRODID:-//Excel - ECPv4.6.16//NONSGML v1.0//EN
CALSCALE:GREGORIAN
METHOD:PUBLISH
X-WR-CALNAME:Excel
X-ORIGINAL-URL:https://excelkids.com
X-WR-CALDESC:Events for Excel
BEGIN:VEVENT
DTSTART;VALUE=DATE:20200504
DTEND;VALUE=DATE:20200509
DTSTAMP:20260425T233931
CREATED:20191122T191239Z
LAST-MODIFIED:20191122T191239Z
UID:3406-1588550400-1588982399@excelkids.com
SUMMARY:Children's Mental Health Awareness Day
DESCRIPTION:
URL:https://excelkids.com/event/childrens-mental-health-awareness-day/
CATEGORIES:Calendar Only
END:VEVENT
END:VCALENDAR