BEGIN:VCALENDAR
VERSION:2.0
PRODID:-//Excel - ECPv4.6.16//NONSGML v1.0//EN
CALSCALE:GREGORIAN
METHOD:PUBLISH
X-WR-CALNAME:Excel
X-ORIGINAL-URL:https://excelkids.com
X-WR-CALDESC:Events for Excel
BEGIN:VEVENT
DTSTART;VALUE=DATE:20210303
DTEND;VALUE=DATE:20210304
DTSTAMP:20260423T162633
CREATED:20210219T133718Z
LAST-MODIFIED:20210219T133718Z
UID:9722-1614729600-1614815999@excelkids.com
SUMMARY:Caregiver Appreciation Day
DESCRIPTION:
URL:https://excelkids.com/event/caregiver-appreciation-day/
CATEGORIES:Calendar Only
END:VEVENT
END:VCALENDAR